BEGIN:VCALENDAR
VERSION:2.0
PRODID:-//Fresh//NONSGML Events//EN
CALSCALE:GREGORIAN
X-WR-CALNAME:Fresh - Events
X-ORIGINAL-URL:https://fresh-schinznach.ch/anlaesse-cal/
X-WR-CALDESC:Fresh - Events
BEGIN:VEVENT
UID:20250128T1113Z-1738062815.7244-EO-11249-1@127.0.0.80
STATUS:CONFIRMED
DTSTAMP:20260422T102344Z
CREATED:20250128T110012Z
LAST-MODIFIED:20250128T140342Z
DTSTART:20250329T113000Z
DTEND:20250329T150000Z
SUMMARY: Jungschar & Ameisli
DESCRIPTION: Jungschar­nachmittag mit Ameisli
X-ALT-DESC;FMTTYPE=text/html: <p>Jungscharnachmittag zusammen mit Ameisli. 
 Thema ist offen.</p>
CATEGORIES:Ameisli,Jungschar
LOCATION:Chile fürs Tal
GEO:47.451663;8.146134
ORGANIZER;CN="Fresh Schinznach":MAILTO:hallo@fresh-schinznach.ch
URL;VALUE=URI:https://fresh-schinznach.ch/anlass/jungschar-ameisli/
END:VEVENT
BEGIN:VEVENT
UID:20250128T1113Z-1738062815.7317-EO-11250-1@127.0.0.80
STATUS:CONFIRMED
DTSTAMP:20260422T102344Z
CREATED:20250128T110124Z
LAST-MODIFIED:20250128T140342Z
DTSTART:20250503T150000Z
DTEND:20250503T180000Z
SUMMARY: Jungschar
DESCRIPTION: Jungscharabend
X-ALT-DESC;FMTTYPE=text/html: <p>Jungscharabend. Thema ist offen.</p>
CATEGORIES:Jungschar
LOCATION:Chile fürs Tal
GEO:47.451663;8.146134
ORGANIZER;CN="Fresh Schinznach":MAILTO:hallo@fresh-schinznach.ch
URL;VALUE=URI:https://fresh-schinznach.ch/anlass/jungschar-5/
END:VEVENT
BEGIN:VEVENT
UID:20250128T1113Z-1738062815.7368-EO-11251-1@127.0.0.80
STATUS:CONFIRMED
DTSTAMP:20260422T102344Z
CREATED:20250128T110230Z
LAST-MODIFIED:20250128T140342Z
DTSTART:20250517T150000Z
DTEND:20250517T180000Z
SUMMARY: Jungschar
DESCRIPTION: Jungscharabend
X-ALT-DESC;FMTTYPE=text/html: <p>Jungscharabend. Thema ist offen.</p>
CATEGORIES:Jungschar
LOCATION:Chile fürs Tal
GEO:47.451663;8.146134
ORGANIZER;CN="Fresh Schinznach":MAILTO:hallo@fresh-schinznach.ch
URL;VALUE=URI:https://fresh-schinznach.ch/anlass/jungschar-6/
END:VEVENT
BEGIN:VEVENT
UID:20250128T1113Z-1738062815.7438-EO-11252-1@127.0.0.80
STATUS:CONFIRMED
DTSTAMP:20260422T102344Z
CREATED:20250128T110452Z
LAST-MODIFIED:20250128T140342Z
DTSTART;VALUE=DATE:20250529
DTEND;VALUE=DATE:20250531
SUMMARY: Outdoorwochenende
DESCRIPTION: Mit Jungschar & Vamos\, Infos folgen
X-ALT-DESC;FMTTYPE=text/html: <p>Outdoorwochenende 2025. Wir sind alleine u
 nterwegs im Schenkenbergertal und gehen biwakieren.</p>
CATEGORIES:¡Vamos!,Jungschar
ORGANIZER;CN="Fresh Schinznach":MAILTO:hallo@fresh-schinznach.ch
URL;VALUE=URI:https://fresh-schinznach.ch/anlass/outdoorwochenende/
END:VEVENT
BEGIN:VEVENT
UID:20250128T1113Z-1738062815.7486-EO-11254-1@127.0.0.80
STATUS:CONFIRMED
DTSTAMP:20260422T102344Z
CREATED:20250128T110842Z
LAST-MODIFIED:20250128T140342Z
DTSTART:20250621T150000Z
DTEND:20250621T180000Z
SUMMARY: ¡Va­mos!\, Jung­schar & Amei­sli
DESCRIPTION: Semesterabschluss mit ¡Vamos!\, Jungschar & Ameisli
X-ALT-DESC;FMTTYPE=text/html: <p>Semesterabschluss mit Ameisli\, Jungschar 
 und ¡Vamos! Thema ist noch offen</p>
CATEGORIES:Ameisli,Jungschar
LOCATION:Chile fürs Tal
GEO:47.451663;8.146134
ORGANIZER;CN="Fresh Schinznach":MAILTO:hallo@fresh-schinznach.ch
URL;VALUE=URI:https://fresh-schinznach.ch/anlass/semesterabschluss/
END:VEVENT
BEGIN:VEVENT
UID:20250128T1113Z-1738062815.7564-EO-11256-1@127.0.0.80
STATUS:CONFIRMED
DTSTAMP:20260422T102344Z
CREATED:20250128T111215Z
LAST-MODIFIED:20250704T094006Z
DTSTART;VALUE=DATE:20250713
DTEND;VALUE=DATE:20250719
SUMMARY: Sommerlager
DESCRIPTION: SoLa mit Birr & Wettingen\, Mehr Infos
X-ALT-DESC;FMTTYPE=text/html: <p>Sommerlager mit den Jungscharen Birr & Wet
 tingen.</p><p><a href="https://fresh-schinznach.ch/sola/">Mehr Infos</a></p
 >
CATEGORIES:¡Vamos!,Jungschar
ORGANIZER;CN="Fresh Schinznach":MAILTO:hallo@fresh-schinznach.ch
URL;VALUE=URI:https://fresh-schinznach.ch/anlass/sola/
END:VEVENT
BEGIN:VEVENT
UID:20250704T1021Z-1751624495.851-EO-12538-1@127.0.0.80
STATUS:CONFIRMED
DTSTAMP:20260422T102344Z
CREATED:20250704T093019Z
LAST-MODIFIED:20250704T094037Z
DTSTART:20250816T110000Z
DTEND:20250816T160000Z
SUMMARY: Jungschar-Böötle
DESCRIPTION: Infos folgen
X-ALT-DESC;FMTTYPE=text/html: <p>Jungscharnachmittag. Wir gehen bööteln.</p
 ><p>Infos folgen noch.</p>
CATEGORIES:Jungschar
LOCATION:Chile fürs Tal
GEO:47.451663;8.146134
ORGANIZER;CN="Fresh Schinznach":MAILTO:hallo@fresh-schinznach.ch
URL;VALUE=URI:https://fresh-schinznach.ch/anlass/jungschar-7/
END:VEVENT
BEGIN:VEVENT
UID:20250704T1021Z-1751624495.8557-EO-12540-1@127.0.0.80
STATUS:CONFIRMED
DTSTAMP:20260422T102344Z
CREATED:20250704T093138Z
LAST-MODIFIED:20250704T094006Z
DTSTART:20250906T150000Z
DTEND:20250906T180000Z
SUMMARY: Jungschar
DESCRIPTION: Jungscharabend
X-ALT-DESC;FMTTYPE=text/html: <p>Jungscharabend.</p>
CATEGORIES:Jungschar
LOCATION:Chile fürs Tal
GEO:47.451663;8.146134
ORGANIZER;CN="Fresh Schinznach":MAILTO:hallo@fresh-schinznach.ch
URL;VALUE=URI:https://fresh-schinznach.ch/anlass/jungschar-8/
END:VEVENT
BEGIN:VEVENT
UID:20250128T1300Z-1738069221.8724-EO-11264-1@127.0.0.80
STATUS:CONFIRMED
DTSTAMP:20260422T102344Z
CREATED:20250128T124237Z
LAST-MODIFIED:20250912T113628Z
DTSTART:20250920T082000Z
DTEND:20250920T153000Z
SUMMARY: Regi-Tag
DESCRIPTION: Gemeinsamer Tag mit der Region. Mehr Infos
X-ALT-DESC;FMTTYPE=text/html: <p>Regi-Tag der BESJ Region 61.</p><p><a href
 ="https://fresh-schinznach.ch/2025/regi-tag-2025-infos/">Mehr Infos</a></p>
CATEGORIES:¡Vamos!,Jungschar
LOCATION:Chile fürs Tal
GEO:47.451663;8.146134
ORGANIZER;CN="Fresh Schinznach":MAILTO:hallo@fresh-schinznach.ch
URL;VALUE=URI:https://fresh-schinznach.ch/anlass/vamos-jungschar/
END:VEVENT
BEGIN:VEVENT
UID:20250704T1021Z-1751624495.8624-EO-12541-1@127.0.0.80
STATUS:CONFIRMED
DTSTAMP:20260422T102344Z
CREATED:20250704T093328Z
LAST-MODIFIED:20250704T094007Z
DTSTART:20251018T113000Z
DTEND:20251018T150000Z
SUMMARY: Ameisli & Jungschar
DESCRIPTION: Jungscharnachmittag mit Ameisli. Es gibt verschiedene Workshop
 s.
X-ALT-DESC;FMTTYPE=text/html: <p>Jungscharnachmittag mit Ameisli</p>
CATEGORIES:Ameisli,Jungschar
LOCATION:Chile fürs Tal
GEO:47.451663;8.146134
ORGANIZER;CN="Fresh Schinznach":MAILTO:hallo@fresh-schinznach.ch
URL;VALUE=URI:https://fresh-schinznach.ch/anlass/ameisli-jungschar/
END:VEVENT
BEGIN:VEVENT
UID:20250704T1021Z-1751624495.8676-EO-12542-1@127.0.0.80
STATUS:CONFIRMED
DTSTAMP:20260422T102344Z
CREATED:20250704T093500Z
LAST-MODIFIED:20250704T094007Z
DTSTART:20251101T113000Z
DTEND:20251101T150000Z
SUMMARY: Jungschar
DESCRIPTION: Jungscharnachmittag\, Aktion Weihnachtspäckli.
X-ALT-DESC;FMTTYPE=text/html: <p>Jungscharnachmittag. Wir packen Pakete für
  die Aktion Weihnachtspäckli.</p>
CATEGORIES:Jungschar
LOCATION:Chile fürs Tal
GEO:47.451663;8.146134
ORGANIZER;CN="Fresh Schinznach":MAILTO:hallo@fresh-schinznach.ch
URL;VALUE=URI:https://fresh-schinznach.ch/anlass/jungschar-9/
END:VEVENT
BEGIN:VEVENT
UID:20250704T1021Z-1751624495.8712-EO-12543-1@127.0.0.80
STATUS:CONFIRMED
DTSTAMP:20260422T102344Z
CREATED:20250704T093648Z
LAST-MODIFIED:20250704T094007Z
DTSTART:20251115T113000Z
DTEND:20251115T150000Z
SUMMARY: Jungschar
DESCRIPTION: Jungscharnachmittag
X-ALT-DESC;FMTTYPE=text/html: <p>Jungscharnachmittag.</p>
CATEGORIES:Jungschar
LOCATION:Chile fürs Tal
GEO:47.451663;8.146134
ORGANIZER;CN="Fresh Schinznach":MAILTO:hallo@fresh-schinznach.ch
URL;VALUE=URI:https://fresh-schinznach.ch/anlass/jungschar-10/
END:VEVENT
BEGIN:VEVENT
UID:20250704T1021Z-1751624495.8765-EO-12544-1@127.0.0.80
STATUS:CONFIRMED
DTSTAMP:20260422T102344Z
CREATED:20250704T093743Z
LAST-MODIFIED:20251202T101103Z
DTSTART:20251206T150000Z
DTEND:20251206T190000Z
SUMMARY: Jungscharchlaus
DESCRIPTION: Mehr Infos
X-ALT-DESC;FMTTYPE=text/html: <p>Jungschar-Samichlaus.</p><p><a href="https
 ://fresh-schinznach.ch/2025/jungscharchlaus-2025-infos/">Mehr Infos</a></p>
CATEGORIES:Jungschar
LOCATION:Chile fürs Tal
GEO:47.451663;8.146134
ORGANIZER;CN="Fresh Schinznach":MAILTO:hallo@fresh-schinznach.ch
URL;VALUE=URI:https://fresh-schinznach.ch/anlass/jungscharchlaus/
END:VEVENT
BEGIN:VEVENT
UID:20250128T1300Z-1738069221.8888-EO-11268-1@127.0.0.80
STATUS:CONFIRMED
DTSTAMP:20260422T102344Z
CREATED:20250128T124614Z
LAST-MODIFIED:20251209T090500Z
DTSTART:20251220T080000Z
DTEND:20251221T100000Z
SUMMARY: Weihnachts­wochen­ende
DESCRIPTION: Mehr Infos
X-ALT-DESC;FMTTYPE=text/html: <p>Weihnachtswochenende mit den Ameisli\, der
  Jungschar und dem ¡Vamos!</p><p><a href="https://fresh-schinznach.ch/2025/
 weihnachtswochenende-2025-infos-anmeldung/">Mehr Infos & Anmeldung</a></p>
CATEGORIES:¡Vamos!,Ameisli,Jungschar
LOCATION:Chile fürs Tal
GEO:47.451663;8.146134
ORGANIZER;CN="Fresh Schinznach":MAILTO:hallo@fresh-schinznach.ch
URL;VALUE=URI:https://fresh-schinznach.ch/anlass/weihnachtswochenende/
END:VEVENT
BEGIN:VEVENT
UID:20251121T1021Z-1763720493.2374-EO-13405-1@127.0.0.80
STATUS:CONFIRMED
DTSTAMP:20260422T102344Z
CREATED:20251121T090104Z
LAST-MODIFIED:20251210T101212Z
DTSTART:20260110T113000Z
DTEND:20260110T150000Z
SUMMARY: Jungschar & Ameisli
DESCRIPTION: Jung­schar­nach­mittag\, evtl. Schlüüchle
X-ALT-DESC;FMTTYPE=text/html: <p>Jungscharnachmittag. Wenn Schnee liegt\, g
 ehen wir schlüüchle. Wir halten euch auf dem Laufenden.</p>
CATEGORIES:Ameisli,Jungschar
LOCATION:Chile fürs Tal
GEO:47.451663;8.146134
ORGANIZER;CN="internetmeister":MAILTO:info@fresh-schinznach.ch
URL;VALUE=URI:https://fresh-schinznach.ch/anlass/jungschar-ameisli-2/
END:VEVENT
BEGIN:VEVENT
UID:ebb9fd85da2afb4cb44b66e4a512c6ac@schinznach.church.tools
STATUS:CONFIRMED
DTSTAMP:20260422T102344Z
CREATED:20260413T111243Z
LAST-MODIFIED:20260422T081248Z
DTSTART:20260110T123000Z
DTEND:20260110T160000Z
SUMMARY: Jungschar
DESCRIPTION: Nachmittagsprogramm\, evtl. Schlüüchle – Jungscharnachmittag. 
 Wenn Schnee liegt gehen wir auf die Stafelegg schlüücheln. Wir informieren 
 dann rechtzeitig.
X-ALT-DESC;FMTTYPE=text/html: <p>Nachmittagsprogramm\, evtl. Schlüüchle - J
 ungscharnachmittag. Wenn Schnee liegt gehen wir auf die Stafelegg schlüüche
 ln. Wir informieren dann rechtzeitig.</p>
CATEGORIES:Jungschar
LOCATION:Chrischona Schinznach-Dorf\, Degerfeldstrasse 13\, 5107\, Schinznach Dorf\,
  CH
GEO:0;0
ORGANIZER;CN="Fresh Schinznach":MAILTO:hallo@fresh-schinznach.ch
URL;VALUE=URI:https://fresh-schinznach.ch/anlass/jungschar-12/
END:VEVENT
BEGIN:VEVENT
UID:20251121T1021Z-1763720493.242-EO-13407-1@127.0.0.80
STATUS:CONFIRMED
DTSTAMP:20260422T102344Z
CREATED:20251121T090104Z
LAST-MODIFIED:20251210T101207Z
DTSTART:20260124T113000Z
DTEND:20260124T150000Z
SUMMARY: Jungschar
DESCRIPTION: Jung­schar­nach­mittag\, evtl. Schlüüchle
X-ALT-DESC;FMTTYPE=text/html: <p>Jungscharnachmittag. Wenn Schnee liegt\, g
 ehen wir schlüüchle. Wir halten euch auf dem Laufenden.</p>
CATEGORIES:Jungschar
LOCATION:Chile fürs Tal
GEO:47.451663;8.146134
ORGANIZER;CN="internetmeister":MAILTO:info@fresh-schinznach.ch
URL;VALUE=URI:https://fresh-schinznach.ch/anlass/jungschar/
END:VEVENT
BEGIN:VEVENT
UID:1b71212b5cefe0337f88fa90fd23a0aa@schinznach.church.tools
STATUS:CONFIRMED
DTSTAMP:20260422T102344Z
CREATED:20260413T111243Z
LAST-MODIFIED:20260422T081248Z
DTSTART:20260124T123000Z
DTEND:20260124T160000Z
SUMMARY: Jungschar
DESCRIPTION: Nachmittagsprogramm\, evtl. Schlüüchle – Reguläres Jungschar-N
 achmittagsprogramm. Geplant ist ein Mr. X in Aarau. Wenn viel Schnee liegt\
 , gehen wir schlüücheln. Wir informieren Rechtzeitig.
X-ALT-DESC;FMTTYPE=text/html: <p>Nachmittagsprogramm\, evtl. Schlüüchle - R
 eguläres Jungschar-Nachmittagsprogramm. Geplant ist ein Mr. X in Aarau. Wen
 n viel Schnee liegt\, gehen wir schlüücheln. Wir informieren Rechtzeitig.</
 p>
CATEGORIES:Jungschar
LOCATION:Chrischona Schinznach-Dorf\, Degerfeldstrasse 13\, 5107\, Schinznach Dorf\,
  CH
GEO:0;0
ORGANIZER;CN="Fresh Schinznach":MAILTO:hallo@fresh-schinznach.ch
URL;VALUE=URI:https://fresh-schinznach.ch/anlass/jungschar-4/
END:VEVENT
BEGIN:VEVENT
UID:20251121T1021Z-1763720493.2457-EO-13408-1@127.0.0.80
STATUS:CONFIRMED
DTSTAMP:20260422T102344Z
CREATED:20251121T090104Z
LAST-MODIFIED:20251210T101224Z
DTSTART:20260221T113000Z
DTEND:20260221T150000Z
SUMMARY: Jungschar & Ameisli
DESCRIPTION: Jung­schar­nach­mittag\, evtl. Schlüüchle
X-ALT-DESC;FMTTYPE=text/html: <p>Jungscharnachmittag. Wenn Schnee liegt\, g
 ehen wir auf der Stafelegg schlüücheln. Wir halten euch auf dem Laufenden.<
 /p>
CATEGORIES:Ameisli,Jungschar
LOCATION:Chile fürs Tal
GEO:47.451663;8.146134
ORGANIZER;CN="internetmeister":MAILTO:info@fresh-schinznach.ch
URL;VALUE=URI:https://fresh-schinznach.ch/anlass/jungschar-11/
END:VEVENT
BEGIN:VEVENT
UID:c8fa6fdb322dff186158f3bf7f9a5fd7@schinznach.church.tools
STATUS:CONFIRMED
DTSTAMP:20260422T102344Z
CREATED:20260413T111243Z
LAST-MODIFIED:20260422T081248Z
DTSTART:20260221T123000Z
DTEND:20260221T160000Z
SUMMARY: Jungschar
DESCRIPTION: Nachmittagsprogramm\, evtl. Schlüüchle – Jungschar Nachmittags
 programm. Wenn viel Schnee liegt\, gehen wir auf der Stafelegg schlüücheln.
  Wir informieren dann rechtzeitig.
X-ALT-DESC;FMTTYPE=text/html: <p>Nachmittagsprogramm\, evtl. Schlüüchle - J
 ungschar Nachmittagsprogramm. Wenn viel Schnee liegt\, gehen wir auf der St
 afelegg schlüücheln. Wir informieren dann rechtzeitig.</p>
CATEGORIES:Jungschar
LOCATION:Chrischona Schinznach-Dorf\, Degerfeldstrasse 13\, 5107\, Schinznach Dorf\,
  CH
GEO:0;0
ORGANIZER;CN="Fresh Schinznach":MAILTO:hallo@fresh-schinznach.ch
URL;VALUE=URI:https://fresh-schinznach.ch/anlass/jungschar-3/
END:VEVENT
BEGIN:VEVENT
UID:20251121T1021Z-1763720493.2494-EO-13411-1@127.0.0.80
STATUS:CONFIRMED
DTSTAMP:20260422T102344Z
CREATED:20251121T090104Z
LAST-MODIFIED:20251121T090104Z
DTSTART:20260307T113000Z
DTEND:20260307T150000Z
SUMMARY: Jungschar
DESCRIPTION: Jungscharnachmittag
X-ALT-DESC;FMTTYPE=text/html: <p>Jungscharnachmittag. Thema ist offen.</p>
CATEGORIES:Jungschar
LOCATION:Chile fürs Tal
GEO:47.451663;8.146134
ORGANIZER;CN="internetmeister":MAILTO:info@fresh-schinznach.ch
URL;VALUE=URI:https://fresh-schinznach.ch/anlass/jungschar-2/
END:VEVENT
BEGIN:VEVENT
UID:abf32adf386b5d402066d43ea7319373@schinznach.church.tools
STATUS:CONFIRMED
DTSTAMP:20260422T102344Z
CREATED:20260413T111243Z
LAST-MODIFIED:20260422T081248Z
DTSTART:20260307T123000Z
DTEND:20260307T160000Z
SUMMARY: Jungschar
DESCRIPTION: Nachmittagsprogramm – Regulärer Jungschar-Nachmittag.
X-ALT-DESC;FMTTYPE=text/html: <p>Nachmittagsprogramm - Regulärer Jungschar-
 Nachmittag.</p>
CATEGORIES:Jungschar
LOCATION:Chrischona Schinznach-Dorf\, Degerfeldstrasse 13\, 5107\, Schinznach Dorf\,
  CH
GEO:0;0
ORGANIZER;CN="Fresh Schinznach":MAILTO:hallo@fresh-schinznach.ch
URL;VALUE=URI:https://fresh-schinznach.ch/anlass/jungschar-13/
END:VEVENT
BEGIN:VEVENT
UID:20251121T1021Z-1763720493.2532-EO-13412-1@127.0.0.80
STATUS:CONFIRMED
DTSTAMP:20260422T102344Z
CREATED:20251121T090104Z
LAST-MODIFIED:20251121T090104Z
DTSTART:20260321T113000Z
DTEND:20260321T150000Z
SUMMARY: Jungschar & Ameisli
DESCRIPTION: Jungscharnachmittag mit Ameisli
X-ALT-DESC;FMTTYPE=text/html: <p>Jungscharnachmittag mit Ameisli. Thema ist
  offen.</p>
CATEGORIES:Ameisli,Jungschar
LOCATION:Chile fürs Tal
GEO:47.451663;8.146134
ORGANIZER;CN="internetmeister":MAILTO:info@fresh-schinznach.ch
URL;VALUE=URI:https://fresh-schinznach.ch/anlass/jungschar-ameisli-3/
END:VEVENT
BEGIN:VEVENT
UID:f3600fc2fcf991f259ea1e1dc3605411@schinznach.church.tools
STATUS:CONFIRMED
DTSTAMP:20260422T102344Z
CREATED:20260413T111243Z
LAST-MODIFIED:20260422T081248Z
DTSTART:20260321T123000Z
DTEND:20260321T160000Z
SUMMARY: Jungschar
DESCRIPTION: Nachmittagsprogramm – Regulärer Jungschar-Nachmittag.
X-ALT-DESC;FMTTYPE=text/html: <p>Nachmittagsprogramm - Regulärer Jungschar-
 Nachmittag.</p>
CATEGORIES:Jungschar
LOCATION:Chrischona Schinznach-Dorf\, Degerfeldstrasse 13\, 5107\, Schinznach Dorf\,
  CH
GEO:0;0
ORGANIZER;CN="Fresh Schinznach":MAILTO:hallo@fresh-schinznach.ch
URL;VALUE=URI:https://fresh-schinznach.ch/anlass/jungschar-14/
END:VEVENT
BEGIN:VEVENT
UID:ebf7a7d1f6552f0ec8809508976fbe27@schinznach.church.tools
STATUS:CONFIRMED
DTSTAMP:20260422T102344Z
CREATED:20260413T111244Z
LAST-MODIFIED:20260422T081248Z
DTSTART:20260425T150000Z
DTEND:20260425T180000Z
SUMMARY: Jungschar
DESCRIPTION: Abendprogramm mit ¡Va­mos! – Jungschar Spezial-Programm zusamm
 en mit Vamos.
X-ALT-DESC;FMTTYPE=text/html: <p>Abendprogramm mit ¡Va­mos! - Jungschar Spe
 zial-Programm zusammen mit Vamos.</p>
CATEGORIES:Jungschar
LOCATION:Chrischona Schinznach-Dorf\, Degerfeldstrasse 13\, 5107\, Schinznach Dorf\,
  CH
GEO:0;0
ORGANIZER;CN="Fresh Schinznach":MAILTO:hallo@fresh-schinznach.ch
URL;VALUE=URI:https://fresh-schinznach.ch/anlass/jungschar-15/
END:VEVENT
BEGIN:VEVENT
UID:e4df9c93fa354314da726b5babba7caf@schinznach.church.tools
STATUS:CONFIRMED
DTSTAMP:20260422T102344Z
CREATED:20260413T111244Z
LAST-MODIFIED:20260422T081248Z
DTSTART;VALUE=DATE:20260514
DTEND;VALUE=DATE:20260518
SUMMARY: Auffahrtslager
DESCRIPTION: Infos folgen
X-ALT-DESC;FMTTYPE=text/html: <p>Infos folgen</p>
CATEGORIES:Jungschar
LOCATION:Chrischona Schinznach-Dorf\, Degerfeldstrasse 13\, 5107\, Schinznach Dorf\,
  CH
GEO:0;0
ORGANIZER;CN="Fresh Schinznach":MAILTO:hallo@fresh-schinznach.ch
URL;VALUE=URI:https://fresh-schinznach.ch/anlass/auffahrtslager/
END:VEVENT
BEGIN:VEVENT
UID:bfe3a78ebbd8aa035ba7628f2169a339@schinznach.church.tools
STATUS:CONFIRMED
DTSTAMP:20260422T102344Z
CREATED:20260413T111244Z
LAST-MODIFIED:20260422T081248Z
DTSTART:20260606T150000Z
DTEND:20260606T180000Z
SUMMARY: Jungschar
DESCRIPTION: Abendprogramm – Regulärer Jungschar-Abend.
X-ALT-DESC;FMTTYPE=text/html: <p>Abendprogramm - Regulärer Jungschar-Abend.
 </p>
CATEGORIES:Jungschar
LOCATION:Chrischona Schinznach-Dorf\, Degerfeldstrasse 13\, 5107\, Schinznach Dorf\,
  CH
GEO:0;0
ORGANIZER;CN="Fresh Schinznach":MAILTO:hallo@fresh-schinznach.ch
URL;VALUE=URI:https://fresh-schinznach.ch/anlass/jungschar-16/
END:VEVENT
BEGIN:VEVENT
UID:27cd2d1572bd805dde04117a2498f87a@schinznach.church.tools
STATUS:CONFIRMED
DTSTAMP:20260422T102344Z
CREATED:20260413T111244Z
LAST-MODIFIED:20260422T081248Z
DTSTART:20260620T150000Z
DTEND:20260620T180000Z
SUMMARY: Jungschar
DESCRIPTION: Semesterabschluss mit Ameisli & ¡Vamos! – Semesterabschluss mi
 t Ameisli & ¡Vamos!
X-ALT-DESC;FMTTYPE=text/html: <p>Semesterabschluss mit Ameisli & ¡Vamos! - 
 Semesterabschluss mit Ameisli & ¡Vamos!</p>
CATEGORIES:Jungschar
LOCATION:Chrischona Schinznach-Dorf\, Degerfeldstrasse 13\, 5107\, Schinznach Dorf\,
  CH
GEO:0;0
ORGANIZER;CN="Fresh Schinznach":MAILTO:hallo@fresh-schinznach.ch
URL;VALUE=URI:https://fresh-schinznach.ch/anlass/jungschar-17/
END:VEVENT
BEGIN:VEVENT
UID:3bf3e16cd13115ca7e30ad6a38e209dc@schinznach.church.tools
STATUS:CONFIRMED
DTSTAMP:20260422T102344Z
CREATED:20260413T111244Z
LAST-MODIFIED:20260422T081248Z
DTSTART;VALUE=DATE:20261219
DTEND;VALUE=DATE:20261221
SUMMARY: Weihnachtswochenende
DESCRIPTION: Weihnachtswochenende von Ameisli\, Jungschar & ¡Va­mos! – Weih
 nachtswochenende von Ameisli\, Jungschar & ¡Va­mos!
X-ALT-DESC;FMTTYPE=text/html: <p>Weihnachtswochenende von Ameisli\, Jungsch
 ar & ¡Va­mos! - Weihnachtswochenende von Ameisli\, Jungschar & ¡Va­mos!</p>
CATEGORIES:Jungschar
LOCATION:Chrischona Schinznach-Dorf\, Degerfeldstrasse 13\, 5107\, Schinznach Dorf\,
  CH
GEO:0;0
ORGANIZER;CN="Fresh Schinznach":MAILTO:hallo@fresh-schinznach.ch
URL;VALUE=URI:https://fresh-schinznach.ch/anlass/weihnachtswochenende-2/
END:VEVENT
END:VCALENDAR
